Package: spatialSimGP Version: 1.3.0 Command: /home/biocbuild/R/R/bin/R CMD check --install=check:spatialSimGP.install-out.txt --library=/home/biocbuild/R/R/site-library --no-vignettes --timings spatialSimGP_1.3.0.tar.gz StartedAt: 2025-10-17 13:56:18 -0000 (Fri, 17 Oct 2025) EndedAt: 2025-10-17 14:00:24 -0000 (Fri, 17 Oct 2025) EllapsedTime: 245.3 seconds RetCode: 0 Status: OK CheckDir: spatialSimGP.Rcheck Warnings: 0