Package: spatialSimGP Version: 1.5.0 Command: /home/biocbuild/bbs-3.23-bioc/R/bin/R CMD check --install=check:spatialSimGP.install-out.txt --library=/home/biocbuild/bbs-3.23-bioc/R/site-library --timings spatialSimGP_1.5.0.tar.gz StartedAt: 2025-11-01 03:51:04 -0400 (Sat, 01 Nov 2025) EndedAt: 2025-11-01 03:54:14 -0400 (Sat, 01 Nov 2025) EllapsedTime: 190.2 seconds RetCode: 0 Status: OK CheckDir: spatialSimGP.Rcheck Warnings: 0