Package: spatialSimGP Version: 1.5.0 Command: /home/biocbuild/bbs-3.23-bioc/R/bin/R CMD build --keep-empty-dirs --no-resave-data spatialSimGP StartedAt: 2025-10-31 20:21:54 -0400 (Fri, 31 Oct 2025) EndedAt: 2025-10-31 20:22:54 -0400 (Fri, 31 Oct 2025) EllapsedTime: 60.0 seconds RetCode: 0 Status: OK PackageFile: spatialSimGP_1.5.0.tar.gz PackageFileSize: 695.9 KiB