Package: spatialSimGP Version: 1.3.0 Command: /Library/Frameworks/R.framework/Resources/bin/R CMD check --install=check:spatialSimGP.install-out.txt --library=/Library/Frameworks/R.framework/Resources/library --no-vignettes --timings spatialSimGP_1.3.0.tar.gz StartedAt: 2025-10-17 02:37:17 -0400 (Fri, 17 Oct 2025) EndedAt: 2025-10-17 02:41:03 -0400 (Fri, 17 Oct 2025) EllapsedTime: 225.9 seconds RetCode: 0 Status: OK CheckDir: spatialSimGP.Rcheck Warnings: 0