Package: spatialSimGP Version: 1.3.0 Command: /Library/Frameworks/R.framework/Resources/bin/R CMD check --install=check:spatialSimGP.install-out.txt --library=/Library/Frameworks/R.framework/Resources/library --no-vignettes --timings spatialSimGP_1.3.0.tar.gz StartedAt: 2025-09-30 21:53:56 -0400 (Tue, 30 Sep 2025) EndedAt: 2025-09-30 21:55:14 -0400 (Tue, 30 Sep 2025) EllapsedTime: 77.9 seconds RetCode: 0 Status: OK CheckDir: spatialSimGP.Rcheck Warnings: 0