Package: spatialHeatmap Version: 2.17.0 Command: /home/biocbuild/bbs-3.23-bioc/R/bin/R CMD INSTALL spatialHeatmap StartedAt: 2025-11-20 15:32:41 -0500 (Thu, 20 Nov 2025) EndedAt: 2025-11-20 15:33:22 -0500 (Thu, 20 Nov 2025) EllapsedTime: 40.9 seconds RetCode: 0 Status: OK