Package: spatialHeatmap Version: 2.15.2 Command: /Library/Frameworks/R.framework/Resources/bin/R CMD check --install=check:spatialHeatmap.install-out.txt --library=/Library/Frameworks/R.framework/Resources/library --no-vignettes --timings spatialHeatmap_2.15.2.tar.gz StartedAt: 2025-10-16 22:12:59 -0400 (Thu, 16 Oct 2025) EndedAt: 2025-10-16 22:15:30 -0400 (Thu, 16 Oct 2025) EllapsedTime: 151.7 seconds RetCode: 0 Status: OK CheckDir: spatialHeatmap.Rcheck Warnings: 0