Package: spatialFDA Version: 1.1.21 Command: /home/biocbuild/R/R/bin/R CMD check --install=check:spatialFDA.install-out.txt --library=/home/biocbuild/R/R/site-library --no-vignettes --timings spatialFDA_1.1.21.tar.gz StartedAt: 2025-10-17 13:55:33 -0000 (Fri, 17 Oct 2025) EndedAt: 2025-10-17 14:11:44 -0000 (Fri, 17 Oct 2025) EllapsedTime: 970.3 seconds RetCode: 0 Status: OK CheckDir: spatialFDA.Rcheck Warnings: 0