Package: spatialFDA Version: 1.3.1 Command: /home/biocbuild/bbs-3.23-bioc/R/bin/R CMD INSTALL spatialFDA StartedAt: 2025-11-03 15:26:50 -0500 (Mon, 03 Nov 2025) EndedAt: 2025-11-03 15:27:23 -0500 (Mon, 03 Nov 2025) EllapsedTime: 33.6 seconds RetCode: 0 Status: OK