Package: spatialFDA Version: 1.3.0 Command: /home/biocbuild/bbs-3.23-bioc/R/bin/R CMD build --keep-empty-dirs --no-resave-data spatialFDA StartedAt: 2025-10-31 20:21:11 -0400 (Fri, 31 Oct 2025) EndedAt: 2025-10-31 20:27:29 -0400 (Fri, 31 Oct 2025) EllapsedTime: 378.3 seconds RetCode: 0 Status: OK PackageFile: spatialFDA_1.3.0.tar.gz PackageFileSize: 6.145 MiB