Package: spatialFDA Version: 1.1.21 Command: /Library/Frameworks/R.framework/Resources/bin/R CMD check --install=check:spatialFDA.install-out.txt --library=/Library/Frameworks/R.framework/Resources/library --no-vignettes --timings spatialFDA_1.1.21.tar.gz StartedAt: 2025-10-17 02:37:05 -0400 (Fri, 17 Oct 2025) EndedAt: 2025-10-17 02:50:48 -0400 (Fri, 17 Oct 2025) EllapsedTime: 823.6 seconds RetCode: 0 Status: OK CheckDir: spatialFDA.Rcheck Warnings: 0