Package: spatialDE Version: 1.16.0 Command: /home/biocbuild/bbs-3.22-bioc/R/bin/R CMD check --install=check:spatialDE.install-out.txt --library=/home/biocbuild/bbs-3.22-bioc/R/site-library --timings spatialDE_1.16.0.tar.gz StartedAt: 2025-10-30 10:47:06 -0400 (Thu, 30 Oct 2025) EndedAt: 2025-10-30 10:53:05 -0400 (Thu, 30 Oct 2025) EllapsedTime: 359.2 seconds RetCode: 0 Status: OK CheckDir: spatialDE.Rcheck Warnings: 0