Package: spatialDE Version: 1.17.0 Command: /home/biocbuild/bbs-3.23-bioc/R/bin/R CMD INSTALL spatialDE StartedAt: 2025-11-20 16:00:39 -0500 (Thu, 20 Nov 2025) EndedAt: 2025-11-20 16:00:59 -0500 (Thu, 20 Nov 2025) EllapsedTime: 19.3 seconds RetCode: 0 Status: OK