Package: spatialDE Version: 1.15.1 Command: /Library/Frameworks/R.framework/Resources/bin/R CMD INSTALL spatialDE StartedAt: 2025-10-03 15:51:12 -0400 (Fri, 03 Oct 2025) EndedAt: 2025-10-03 15:51:41 -0400 (Fri, 03 Oct 2025) EllapsedTime: 29.4 seconds RetCode: 0 Status: OK