Package: spatialDE Version: 1.15.1 Command: /Library/Frameworks/R.framework/Resources/bin/R CMD build --keep-empty-dirs --no-resave-data spatialDE StartedAt: 2025-10-03 19:08:20 -0400 (Fri, 03 Oct 2025) EndedAt: 2025-10-03 19:10:50 -0400 (Fri, 03 Oct 2025) EllapsedTime: 151.0 seconds RetCode: 0 Status: OK PackageFile: spatialDE_1.15.1.tar.gz PackageFileSize: 3.876 MiB