Package: spatialDE Version: 1.15.1 Maintainer: Gabriele Sales MaintainerEmail: gabriele.sales at unipd.it git_url: https://git.bioconductor.org/packages/spatialDE git_branch: devel git_last_commit: 361ffda git_last_commit_date: 2025-04-16 02:22:34 -0400 (Wed, 16 Apr 2025)