Package: sparsenetgls Version: 1.29.0 Command: /home/biocbuild/bbs-3.23-bioc/R/bin/R CMD INSTALL sparsenetgls StartedAt: 2025-11-20 15:05:19 -0500 (Thu, 20 Nov 2025) EndedAt: 2025-11-20 15:05:46 -0500 (Thu, 20 Nov 2025) EllapsedTime: 27.4 seconds RetCode: 0 Status: OK