Package: sparsenetgls Version: 1.29.0 Command: /home/biocbuild/bbs-3.23-bioc/R/bin/R CMD build --keep-empty-dirs --no-resave-data sparsenetgls StartedAt: 2025-11-20 20:13:39 -0500 (Thu, 20 Nov 2025) EndedAt: 2025-11-20 20:16:22 -0500 (Thu, 20 Nov 2025) EllapsedTime: 163.1 seconds RetCode: 0 Status: OK PackageFile: sparsenetgls_1.29.0.tar.gz PackageFileSize: 634.7 KiB