Package: sparsenetgls Version: 1.27.0 Command: /Library/Frameworks/R.framework/Resources/bin/R CMD build --keep-empty-dirs --no-resave-data sparsenetgls StartedAt: 2025-10-16 18:01:17 -0400 (Thu, 16 Oct 2025) EndedAt: 2025-10-16 18:02:48 -0400 (Thu, 16 Oct 2025) EllapsedTime: 91.0 seconds RetCode: 0 Status: OK PackageFile: sparsenetgls_1.27.0.tar.gz PackageFileSize: 623.2 KiB