Package: sparsenetgls Version: 1.27.0 Command: rm -rf sparsenetgls.buildbin-libdir && mkdir sparsenetgls.buildbin-libdir && /Users/biocbuild/BBS/utils/build-universal.sh sparsenetgls_1.27.0.tar.gz /Library/Frameworks/R.framework/Resources/bin/R sparsenetgls.buildbin-libdir StartedAt: 2025-10-17 23:26:44 -0400 (Fri, 17 Oct 2025) EndedAt: 2025-10-17 23:26:48 -0400 (Fri, 17 Oct 2025) EllapsedTime: 4.1 seconds RetCode: 0 Status: OK PackageFile: sparsenetgls_1.27.0.tgz PackageFileSize: 643 KiB