Package: sparsenetgls Version: 1.29.0 Maintainer: Irene Zeng MaintainerEmail: szen003 at aucklanduni.ac.nz git_url: https://git.bioconductor.org/packages/sparsenetgls git_branch: devel git_last_commit: 92f4ff1 git_last_commit_date: 2025-10-29 10:47:32 -0400 (Wed, 29 Oct 2025)