Package: sparseMatrixStats Version: 1.23.0 Command: /home/biocbuild/bbs-3.23-bioc/R/bin/R CMD build --keep-empty-dirs --no-resave-data sparseMatrixStats StartedAt: 2025-11-07 20:08:20 -0500 (Fri, 07 Nov 2025) EndedAt: 2025-11-07 20:08:53 -0500 (Fri, 07 Nov 2025) EllapsedTime: 33.0 seconds RetCode: 0 Status: OK PackageFile: sparseMatrixStats_1.23.0.tar.gz PackageFileSize: 687.7 KiB