Package: sparrow Version: 1.17.0 Command: /home/biocbuild/bbs-3.23-bioc/R/bin/R CMD INSTALL sparrow StartedAt: 2025-11-05 15:36:20 -0500 (Wed, 05 Nov 2025) EndedAt: 2025-11-05 15:36:51 -0500 (Wed, 05 Nov 2025) EllapsedTime: 30.8 seconds RetCode: 0 Status: OK