Package: sparrow Version: 1.17.0 Command: /home/biocbuild/bbs-3.23-bioc/R/bin/R CMD build --keep-empty-dirs --no-resave-data sparrow StartedAt: 2025-11-04 20:05:36 -0500 (Tue, 04 Nov 2025) EndedAt: 2025-11-04 20:07:40 -0500 (Tue, 04 Nov 2025) EllapsedTime: 124.1 seconds RetCode: 0 Status: OK PackageFile: sparrow_1.17.0.tar.gz PackageFileSize: 4.137 MiB