Package: sparrow Version: 1.15.0 Command: /Library/Frameworks/R.framework/Resources/bin/R CMD build --keep-empty-dirs --no-resave-data sparrow StartedAt: 2025-10-10 19:19:57 -0400 (Fri, 10 Oct 2025) EndedAt: 2025-10-10 19:22:26 -0400 (Fri, 10 Oct 2025) EllapsedTime: 148.9 seconds RetCode: 0 Status: OK PackageFile: sparrow_1.15.0.tar.gz PackageFileSize: 4.131 MiB