Package: sparrow Version: 1.15.0 Command: rm -rf sparrow.buildbin-libdir && mkdir sparrow.buildbin-libdir && /Users/biocbuild/BBS/utils/build-universal.sh sparrow_1.15.0.tar.gz /Library/Frameworks/R.framework/Resources/bin/R sparrow.buildbin-libdir StartedAt: 2025-10-11 02:55:41 -0400 (Sat, 11 Oct 2025) EndedAt: 2025-10-11 02:56:30 -0400 (Sat, 11 Oct 2025) EllapsedTime: 49.9 seconds RetCode: 0 Status: OK PackageFile: sparrow_1.15.0.tgz PackageFileSize: 4.57 MiB