Package: sparrow Version: 1.15.0 Maintainer: Steve Lianoglou MaintainerEmail: slianoglou at gmail.com git_url: https://git.bioconductor.org/packages/sparrow git_branch: devel git_last_commit: fd4225d git_last_commit_date: 2025-04-15 12:39:51 -0400 (Tue, 15 Apr 2025)