Package: spacexr Version: 1.1.1 Command: /home/biocbuild/R/R/bin/R CMD INSTALL spacexr StartedAt: 2025-10-13 20:56:02 -0000 (Mon, 13 Oct 2025) EndedAt: 2025-10-13 20:56:41 -0000 (Mon, 13 Oct 2025) EllapsedTime: 38.9 seconds RetCode: 0 Status: OK