Package: spacexr Version: 1.1.1 Command: /home/biocbuild/R/R/bin/R CMD build --keep-empty-dirs --no-resave-data spacexr StartedAt: 2025-10-14 03:46:05 -0000 (Tue, 14 Oct 2025) EndedAt: 2025-10-14 03:47:38 -0000 (Tue, 14 Oct 2025) EllapsedTime: 93.0 seconds RetCode: 0 Status: OK PackageFile: spacexr_1.1.1.tar.gz PackageFileSize: 387.6 KiB