Package: spacexr Version: 1.1.0 Command: rm -rf spacexr.buildbin-libdir && mkdir spacexr.buildbin-libdir && F:\biocbuild\bbs-3.22-bioc\R\bin\R.exe CMD INSTALL --build --library=spacexr.buildbin-libdir spacexr_1.1.0.tar.gz StartedAt: 2025-08-15 11:22:26 -0400 (Fri, 15 Aug 2025) EndedAt: 2025-08-15 11:23:29 -0400 (Fri, 15 Aug 2025) EllapsedTime: 63.2 seconds RetCode: 0 Status: OK PackageFile: spacexr_1.1.0.zip PackageFileSize: 879.9 KiB