Package: spacexr Version: 1.1.0 Command: /home/biocbuild/bbs-3.22-bioc/R/bin/R CMD check --install=check:spacexr.install-out.txt --library=/home/biocbuild/bbs-3.22-bioc/R/site-library --timings spacexr_1.1.0.tar.gz StartedAt: 2025-10-09 05:00:24 -0400 (Thu, 09 Oct 2025) EndedAt: 2025-10-09 05:10:31 -0400 (Thu, 09 Oct 2025) EllapsedTime: 606.5 seconds RetCode: 0 Status: OK CheckDir: spacexr.Rcheck Warnings: 0