Package: spacexr Version: 1.3.0 Command: /home/biocbuild/bbs-3.23-bioc/R/bin/R CMD check --install=check:spacexr.install-out.txt --library=/home/biocbuild/bbs-3.23-bioc/R/site-library --timings spacexr_1.3.0.tar.gz StartedAt: 2025-11-15 04:17:41 -0500 (Sat, 15 Nov 2025) EndedAt: 2025-11-15 04:31:32 -0500 (Sat, 15 Nov 2025) EllapsedTime: 830.9 seconds RetCode: 0 Status: OK CheckDir: spacexr.Rcheck Warnings: 0