Package: spaSim Version: 1.13.0 Command: /home/biocbuild/bbs-3.23-bioc/R/bin/R CMD INSTALL spaSim StartedAt: 2025-11-20 15:32:22 -0500 (Thu, 20 Nov 2025) EndedAt: 2025-11-20 15:32:47 -0500 (Thu, 20 Nov 2025) EllapsedTime: 25.6 seconds RetCode: 0 Status: OK