Package: spaSim Version: 1.13.0 Command: /home/biocbuild/bbs-3.23-bioc/R/bin/R CMD build --keep-empty-dirs --no-resave-data spaSim StartedAt: 2025-11-20 20:13:50 -0500 (Thu, 20 Nov 2025) EndedAt: 2025-11-20 20:15:33 -0500 (Thu, 20 Nov 2025) EllapsedTime: 103.1 seconds RetCode: 0 Status: OK PackageFile: spaSim_1.13.0.tar.gz PackageFileSize: 3.549 MiB