Package: spaSim Version: 1.11.0 Command: /Library/Frameworks/R.framework/Resources/bin/R CMD INSTALL spaSim StartedAt: 2025-10-10 15:34:58 -0400 (Fri, 10 Oct 2025) EndedAt: 2025-10-10 15:35:35 -0400 (Fri, 10 Oct 2025) EllapsedTime: 37.1 seconds RetCode: 0 Status: OK