Package: spaSim Version: 1.11.0 Command: /Library/Frameworks/R.framework/Resources/bin/R CMD build --keep-empty-dirs --no-resave-data spaSim StartedAt: 2025-10-10 19:20:33 -0400 (Fri, 10 Oct 2025) EndedAt: 2025-10-10 19:22:41 -0400 (Fri, 10 Oct 2025) EllapsedTime: 128.2 seconds RetCode: 0 Status: OK PackageFile: spaSim_1.11.0.tar.gz PackageFileSize: 4.019 MiB