Package: spaSim Version: 1.11.0 Maintainer: Yuzhou Feng MaintainerEmail: yuzhou.feng at petermac.org git_url: https://git.bioconductor.org/packages/spaSim git_branch: devel git_last_commit: 7c4ef82 git_last_commit_date: 2025-04-15 12:52:59 -0400 (Tue, 15 Apr 2025)