Package: spARI Version: 1.1.0 Command: /home/biocbuild/bbs-3.23-bioc/R/bin/R CMD build --keep-empty-dirs --no-resave-data spARI StartedAt: 2025-11-20 20:12:27 -0500 (Thu, 20 Nov 2025) EndedAt: 2025-11-20 20:13:39 -0500 (Thu, 20 Nov 2025) EllapsedTime: 72.0 seconds RetCode: 0 Status: OK PackageFile: spARI_1.1.0.tar.gz PackageFileSize: 300.8 KiB