Package: spARI Version: 1.1.0 Command: /Library/Frameworks/R.framework/Resources/bin/R CMD INSTALL spARI StartedAt: 2025-11-20 15:26:44 -0500 (Thu, 20 Nov 2025) EndedAt: 2025-11-20 15:27:23 -0500 (Thu, 20 Nov 2025) EllapsedTime: 39.3 seconds RetCode: 0 Status: OK