Package: spARI Version: 1.1.0 Command: /Library/Frameworks/R.framework/Resources/bin/R CMD build --keep-empty-dirs --no-resave-data spARI StartedAt: 2025-11-20 18:48:17 -0500 (Thu, 20 Nov 2025) EndedAt: 2025-11-20 18:49:36 -0500 (Thu, 20 Nov 2025) EllapsedTime: 78.7 seconds RetCode: 0 Status: OK PackageFile: spARI_1.1.0.tar.gz PackageFileSize: 359.4 KiB