Package: spARI Version: 1.1.0 Command: rm -rf spARI.buildbin-libdir && mkdir spARI.buildbin-libdir && /Users/biocbuild/BBS/utils/build-universal.sh spARI_1.1.0.tar.gz /Library/Frameworks/R.framework/Resources/bin/R spARI.buildbin-libdir StartedAt: 2025-11-21 01:58:56 -0500 (Fri, 21 Nov 2025) EndedAt: 2025-11-21 01:59:39 -0500 (Fri, 21 Nov 2025) EllapsedTime: 42.8 seconds RetCode: 0 Status: OK PackageFile: spARI_1.1.0.tgz PackageFileSize: 405 KiB