Package: spARI Version: 0.99.17 Command: /Library/Frameworks/R.framework/Resources/bin/R CMD INSTALL spARI StartedAt: 2025-10-23 15:13:18 -0400 (Thu, 23 Oct 2025) EndedAt: 2025-10-23 15:13:29 -0400 (Thu, 23 Oct 2025) EllapsedTime: 11.1 seconds RetCode: 0 Status: OK