Package: spARI Version: 0.99.17 Command: /Library/Frameworks/R.framework/Resources/bin/R CMD build --keep-empty-dirs --no-resave-data spARI StartedAt: 2025-10-23 17:53:02 -0400 (Thu, 23 Oct 2025) EndedAt: 2025-10-23 17:53:32 -0400 (Thu, 23 Oct 2025) EllapsedTime: 29.3 seconds RetCode: 0 Status: OK PackageFile: spARI_0.99.17.tar.gz PackageFileSize: 359.5 KiB