Package: spARI Version: 0.99.17 Command: rm -rf spARI.buildbin-libdir && mkdir spARI.buildbin-libdir && /Users/biocbuild/BBS/utils/build-universal.sh spARI_0.99.17.tar.gz /Library/Frameworks/R.framework/Resources/bin/R spARI.buildbin-libdir StartedAt: 2025-10-23 23:28:10 -0400 (Thu, 23 Oct 2025) EndedAt: 2025-10-23 23:28:24 -0400 (Thu, 23 Oct 2025) EllapsedTime: 13.3 seconds RetCode: 0 Status: OK PackageFile: spARI_0.99.17.tgz PackageFileSize: 404.3 KiB