Package: sosta Version: 1.3.0 Command: /Library/Frameworks/R.framework/Resources/bin/R CMD build --keep-empty-dirs --no-resave-data sosta StartedAt: 2025-11-21 17:42:56 -0500 (Fri, 21 Nov 2025) EndedAt: 2025-11-21 17:45:51 -0500 (Fri, 21 Nov 2025) EllapsedTime: 174.9 seconds RetCode: 0 Status: OK PackageFile: sosta_1.3.0.tar.gz PackageFileSize: 6.189 MiB