Package: soGGi Version: 1.41.1 Command: /Library/Frameworks/R.framework/Resources/bin/R CMD INSTALL soGGi StartedAt: 2025-10-10 15:52:06 -0400 (Fri, 10 Oct 2025) EndedAt: 2025-10-10 15:53:06 -0400 (Fri, 10 Oct 2025) EllapsedTime: 59.3 seconds RetCode: 0 Status: OK