Package: snpStats Version: 1.61.0 Command: /home/biocbuild/bbs-3.23-bioc/R/bin/R CMD INSTALL snpStats StartedAt: 2025-11-20 15:11:19 -0500 (Thu, 20 Nov 2025) EndedAt: 2025-11-20 15:11:36 -0500 (Thu, 20 Nov 2025) EllapsedTime: 17.2 seconds RetCode: 0 Status: OK