Package: snpStats Version: 1.61.0 Command: /home/biocbuild/bbs-3.23-bioc/R/bin/R CMD build --keep-empty-dirs --no-resave-data snpStats StartedAt: 2025-11-20 20:11:03 -0500 (Thu, 20 Nov 2025) EndedAt: 2025-11-20 20:12:07 -0500 (Thu, 20 Nov 2025) EllapsedTime: 64.1 seconds RetCode: 0 Status: OK PackageFile: snpStats_1.61.0.tar.gz PackageFileSize: 7.732 MiB