Package: snpStats Version: 1.59.2 Command: /Library/Frameworks/R.framework/Resources/bin/R CMD INSTALL snpStats StartedAt: 2025-10-27 15:12:10 -0400 (Mon, 27 Oct 2025) EndedAt: 2025-10-27 15:12:36 -0400 (Mon, 27 Oct 2025) EllapsedTime: 26.4 seconds RetCode: 0 Status: OK