Package: snpStats Version: 1.59.2 Command: /Library/Frameworks/R.framework/Resources/bin/R CMD INSTALL snpStats StartedAt: 2025-10-07 15:06:41 -0400 (Tue, 07 Oct 2025) EndedAt: 2025-10-07 15:06:48 -0400 (Tue, 07 Oct 2025) EllapsedTime: 6.7 seconds RetCode: 0 Status: OK